BEGIN:VCALENDAR
VERSION:2.0
PRODID:-//CJ Radio Group - ECPv6.15.20//NONSGML v1.0//EN
CALSCALE:GREGORIAN
METHOD:PUBLISH
X-WR-CALNAME:CJ Radio Group
X-ORIGINAL-URL:https://cjradio.ca
X-WR-CALDESC:Events for CJ Radio Group
REFRESH-INTERVAL;VALUE=DURATION:PT1H
X-Robots-Tag:noindex
X-PUBLISHED-TTL:PT1H
BEGIN:VTIMEZONE
TZID:America/Toronto
BEGIN:DAYLIGHT
TZOFFSETFROM:-0500
TZOFFSETTO:-0400
TZNAME:EDT
DTSTART:20210314T070000
END:DAYLIGHT
BEGIN:STANDARD
TZOFFSETFROM:-0400
TZOFFSETTO:-0500
TZNAME:EST
DTSTART:20211107T060000
END:STANDARD
BEGIN:DAYLIGHT
TZOFFSETFROM:-0500
TZOFFSETTO:-0400
TZNAME:EDT
DTSTART:20220313T070000
END:DAYLIGHT
BEGIN:STANDARD
TZOFFSETFROM:-0400
TZOFFSETTO:-0500
TZNAME:EST
DTSTART:20221106T060000
END:STANDARD
BEGIN:DAYLIGHT
TZOFFSETFROM:-0500
TZOFFSETTO:-0400
TZNAME:EDT
DTSTART:20230312T070000
END:DAYLIGHT
BEGIN:STANDARD
TZOFFSETFROM:-0400
TZOFFSETTO:-0500
TZNAME:EST
DTSTART:20231105T060000
END:STANDARD
END:VTIMEZONE
BEGIN:VEVENT
DTSTART;TZID=America/Toronto:20220528T090000
DTEND;TZID=America/Toronto:20220528T170000
DTSTAMP:20260421T093133
CREATED:20220526T160854Z
LAST-MODIFIED:20220526T160854Z
UID:10000141-1653728400-1653757200@cjradio.ca
SUMMARY:Esterhazy Garage Sale
DESCRIPTION:Saturday\, May 28th from 9am to 5 pm \n1153 Broadview Road Esterhazy
URL:https://cjradio.ca/event/esterhazy-garage-sale/
CATEGORIES:EZ FM Esterhazy
END:VEVENT
BEGIN:VEVENT
DTSTART;TZID=America/Toronto:20220528T090000
DTEND;TZID=America/Toronto:20220528T140000
DTSTAMP:20260421T093133
CREATED:20220518T164322Z
LAST-MODIFIED:20220518T164322Z
UID:10000111-1653728400-1653746400@cjradio.ca
SUMMARY:Swan River 25 Cent Sale
DESCRIPTION:Saturday\, May 28th from 9am – 2pm at the Veterans Hall \nDonations only accepted on Friday\, May 27th 5pm – 8pm
URL:https://cjradio.ca/event/swan-river-25-cent-sale/
CATEGORIES:CJ104 Swan River & Dauphin
END:VEVENT
BEGIN:VEVENT
DTSTART;TZID=America/Toronto:20220528T080000
DTEND;TZID=America/Toronto:20220528T140000
DTSTAMP:20260421T093133
CREATED:20220517T173656Z
LAST-MODIFIED:20220517T173656Z
UID:10000109-1653724800-1653746400@cjradio.ca
SUMMARY:Neepawa Town Wide Garage Sale
DESCRIPTION:Town of Neepawa Mb garage sale \nSaturday\, May 28th\, 2022 \n8 am to 2 pm
URL:https://cjradio.ca/event/neepawa-town-wide-garage-sale/
CATEGORIES:CJ97 Neepawa & Minnedosa
END:VEVENT
BEGIN:VEVENT
DTSTART;VALUE=DATE:20220528
DTEND;VALUE=DATE:20220530
DTSTAMP:20260421T093133
CREATED:20220517T153913Z
LAST-MODIFIED:20220517T153945Z
UID:10000105-1653696000-1653868799@cjradio.ca
SUMMARY:Swan River Give Away Weekend
DESCRIPTION:May 28 and 29th
URL:https://cjradio.ca/event/swan-river-give-away-weekend/
CATEGORIES:CJ104 Swan River & Dauphin
END:VEVENT
BEGIN:VEVENT
DTSTART;TZID=America/Toronto:20220527T180000
DTEND;TZID=America/Toronto:20220528T160000
DTSTAMP:20260421T093133
CREATED:20220526T161457Z
LAST-MODIFIED:20220526T161457Z
UID:10000142-1653674400-1653753600@cjradio.ca
SUMMARY:Esterhazy Garage Sale
DESCRIPTION:Friday\, May 27th from 6pm to 8 pm \nSaturday\, May 28th from 9am to 4pm \n7c Inez Ave. West End\, Last House on the Ave.
URL:https://cjradio.ca/event/esterhazy-garage-sale-2/
CATEGORIES:EZ FM Esterhazy
END:VEVENT
BEGIN:VEVENT
DTSTART;TZID=America/Toronto:20220527T080000
DTEND;TZID=America/Toronto:20221007T170000
DTSTAMP:20260421T093133
CREATED:20220610T162044Z
LAST-MODIFIED:20220610T162044Z
UID:10000163-1653638400-1665162000@cjradio.ca
SUMMARY:Esterhazy Friday Community Market
DESCRIPTION:May 27th – Oct 7th on Fridays \n8:45 am – 12:30pm pm \nPark Ave. Esterhazy
URL:https://cjradio.ca/event/esterhazy-friday-community-market/
CATEGORIES:EZ FM Esterhazy
END:VEVENT
BEGIN:VEVENT
DTSTART;TZID=America/Toronto:20220526T110000
DTEND;TZID=America/Toronto:20220526T140000
DTSTAMP:20260421T093133
CREATED:20220525T160928Z
LAST-MODIFIED:20220525T160956Z
UID:10000140-1653562800-1653573600@cjradio.ca
SUMMARY:Fund Raising Bar-B-Q For Ukrainian Families coming to Swan River
DESCRIPTION:Thursday\, May 26th from 11 am to 2 pm at the Co-op parking lot \n$10 for a burger or hot dog\, chips\, and a beverage (buffalo or beef burgers are also available) \n50/50 draw on site \nAll proceeds donated to the Ukrainian families in care of Living Word Church and Settlement Services
URL:https://cjradio.ca/event/fund-raising-bar-b-q-for-ukrainian-families-coming-to-swan-river/
CATEGORIES:CJ104 Swan River & Dauphin
END:VEVENT
BEGIN:VEVENT
DTSTART;TZID=America/Toronto:20220525T110000
DTEND;TZID=America/Toronto:20220525T140000
DTSTAMP:20260421T093133
CREATED:20220519T163654Z
LAST-MODIFIED:20220519T163654Z
UID:10000116-1653476400-1653487200@cjradio.ca
SUMMARY:CMHA Swan Valley Celebration Barbecue
DESCRIPTION:Wednesday\, May 25th\, 11:00 am to 2:00 pm at Extra Foods \n$5 for burger\, chips\, and beverage
URL:https://cjradio.ca/event/cmha-swan-valley-celebration-barbecue/
CATEGORIES:CJ104 Swan River & Dauphin
END:VEVENT
BEGIN:VEVENT
DTSTART;TZID=America/Toronto:20220524T180000
DTEND;TZID=America/Toronto:20220524T180000
DTSTAMP:20260421T093133
CREATED:20220517T153444Z
LAST-MODIFIED:20220517T153444Z
UID:10000104-1653415200-1653415200@cjradio.ca
SUMMARY:Minitonas Public Hearing
DESCRIPTION:Minitonas/Bowsman financial plan \n6pm at the Bowsman Municipal Office \n 
URL:https://cjradio.ca/event/minitonas-public-hearing/
CATEGORIES:CJ104 Swan River & Dauphin
END:VEVENT
BEGIN:VEVENT
DTSTART;VALUE=DATE:20220523
DTEND;VALUE=DATE:20220524
DTSTAMP:20260421T093133
CREATED:20220519T170338Z
LAST-MODIFIED:20220519T170338Z
UID:10000126-1653264000-1653350399@cjradio.ca
SUMMARY:Victoria Day
DESCRIPTION:Celebrated as the official birthday of Canada’s sovereign \nThe beginning of the summer season in Canada \nGive cheers to the queen \nTraditions include a gun salute at midnight\, pre-dawn serenades\, picnics\, athletic competitions\, a display of illumination\, and a torch-lit procession \nMajor tragedies: In 1881\, the passenger ferry Victoria overturned in the Thames River\, and on May 26th\, 1896\, the Point Ellice Bridge collapsed under the weight of a streetcar. \nCanada is the only country that commemorates Queen Victoria with an official Holiday. \nThis holiday is also known as “May Two-Four”\, Canadian slang for a case of Twenty-Four beers. \nA traditional song about Victoria’s Day went as follows: “The Twenty Fourth of May/ Is the Queens Birthday; / If they don’t give us a holiday / We’ll all run away!
URL:https://cjradio.ca/event/victoria-day/2022-05-23/
CATEGORIES:CJ103 Virden & Oak Lake,CJ104 Swan River & Dauphin,CJ107 Gimli & Arborg,CJ97 Neepawa & Minnedosa,EZ FM Esterhazy
END:VEVENT
BEGIN:VEVENT
DTSTART;TZID=America/Toronto:20220521T080000
DTEND;TZID=America/Toronto:20220522T170000
DTSTAMP:20260421T093133
CREATED:20220517T152811Z
LAST-MODIFIED:20220517T152811Z
UID:10000103-1653120000-1653238800@cjradio.ca
SUMMARY:Minitonas Town Wide Garage Sale
DESCRIPTION:May long weekend \nEveryone welcomed to participate
URL:https://cjradio.ca/event/minitonas-town-wide-garage-sale/
CATEGORIES:CJ104 Swan River & Dauphin
END:VEVENT
BEGIN:VEVENT
DTSTART;VALUE=DATE:20220521
DTEND;VALUE=DATE:20220906
DTSTAMP:20260421T093133
CREATED:20220520T151856Z
LAST-MODIFIED:20220520T151856Z
UID:10000136-1653091200-1662422399@cjradio.ca
SUMMARY:Dinosaur Exhibit At The Manitoba Museum
DESCRIPTION:From May 21 to September 5th the Royal Ontario Museum’s Dinosaur display will be at the Manitoba Museum. With its realistic life-sized displays\, this family-friendly exhibit is sure to impress!
URL:https://cjradio.ca/event/dinosaur-exhibit-at-the-manitoba-museum/
CATEGORIES:CJ103 Virden & Oak Lake,CJ104 Swan River & Dauphin,CJ107 Gimli & Arborg,CJ97 Neepawa & Minnedosa,EZ FM Esterhazy
END:VEVENT
BEGIN:VEVENT
DTSTART;TZID=America/Toronto:20220520T153000
DTEND;TZID=America/Toronto:20220524T070000
DTSTAMP:20260421T093133
CREATED:20220517T174146Z
LAST-MODIFIED:20220517T174146Z
UID:10000110-1653060600-1653375600@cjradio.ca
SUMMARY:Esterhazy St. Anthony's Hospital No Emergency Services
DESCRIPTION:No emergency services at St. Anthony’s Hospital \nFrom Friday\, May 20th\, 3:30 pm to Tuesday\, May 24th\, 7:00 am
URL:https://cjradio.ca/event/esterhazy-st-anthonys-hospital-no-emergency-services/
CATEGORIES:EZ FM Esterhazy
END:VEVENT
BEGIN:VEVENT
DTSTART;VALUE=DATE:20220519
DTEND;VALUE=DATE:20220520
DTSTAMP:20260421T093133
CREATED:20220519T164719Z
LAST-MODIFIED:20220519T164719Z
UID:10000122-1652918400-1653004799@cjradio.ca
SUMMARY:Mark Kohut's Birthday
DESCRIPTION:May 19th
URL:https://cjradio.ca/event/mark-kohuts-birthday/2022-05-19/
CATEGORIES:CJ104 Swan River & Dauphin
END:VEVENT
BEGIN:VEVENT
DTSTART;VALUE=DATE:20220518
DTEND;VALUE=DATE:20220519
DTSTAMP:20260421T093133
CREATED:20220519T164620Z
LAST-MODIFIED:20220519T164620Z
UID:10000118-1652832000-1652918399@cjradio.ca
SUMMARY:Brad Kushniryk's Birthday
DESCRIPTION:May 18th
URL:https://cjradio.ca/event/brad-kushniryks-birthday/2022-05-18/
CATEGORIES:CJ104 Swan River & Dauphin
END:VEVENT
BEGIN:VEVENT
DTSTART;TZID=America/Toronto:20220423T080000
DTEND;TZID=America/Toronto:20220423T170000
DTSTAMP:20260421T093133
CREATED:20220421T003759Z
LAST-MODIFIED:20220421T003931Z
UID:10000101-1650700800-1650733200@cjradio.ca
SUMMARY:Test Swan River Event
DESCRIPTION:
URL:https://cjradio.ca/event/test-swan-river-event/
LOCATION:The Rink\, 123 Anystreet\, Swan River\, MB
CATEGORIES:CJ104 Swan River & Dauphin
ORGANIZER;CN="Test Organizer":MAILTO:nowhere@nowhere.com
END:VEVENT
BEGIN:VEVENT
DTSTART;TZID=America/Toronto:20220422T080000
DTEND;TZID=America/Toronto:20220422T170000
DTSTAMP:20260421T093133
CREATED:20220421T003915Z
LAST-MODIFIED:20220421T003915Z
UID:10000102-1650614400-1650646800@cjradio.ca
SUMMARY:Test All Sites
DESCRIPTION:Test Event
URL:https://cjradio.ca/event/test-all-sites/
CATEGORIES:CJ103 Virden & Oak Lake,CJ104 Swan River & Dauphin,CJ107 Gimli & Arborg,CJ97 Neepawa & Minnedosa,EZ FM Esterhazy
END:VEVENT
END:VCALENDAR