BEGIN:VCALENDAR
VERSION:2.0
PRODID:-//CJ Radio Group - ECPv6.15.20//NONSGML v1.0//EN
CALSCALE:GREGORIAN
METHOD:PUBLISH
X-WR-CALNAME:CJ Radio Group
X-ORIGINAL-URL:https://cjradio.ca
X-WR-CALDESC:Events for CJ Radio Group
REFRESH-INTERVAL;VALUE=DURATION:PT1H
X-Robots-Tag:noindex
X-PUBLISHED-TTL:PT1H
BEGIN:VTIMEZONE
TZID:America/Toronto
BEGIN:DAYLIGHT
TZOFFSETFROM:-0500
TZOFFSETTO:-0400
TZNAME:EDT
DTSTART:20210314T070000
END:DAYLIGHT
BEGIN:STANDARD
TZOFFSETFROM:-0400
TZOFFSETTO:-0500
TZNAME:EST
DTSTART:20211107T060000
END:STANDARD
BEGIN:DAYLIGHT
TZOFFSETFROM:-0500
TZOFFSETTO:-0400
TZNAME:EDT
DTSTART:20220313T070000
END:DAYLIGHT
BEGIN:STANDARD
TZOFFSETFROM:-0400
TZOFFSETTO:-0500
TZNAME:EST
DTSTART:20221106T060000
END:STANDARD
BEGIN:DAYLIGHT
TZOFFSETFROM:-0500
TZOFFSETTO:-0400
TZNAME:EDT
DTSTART:20230312T070000
END:DAYLIGHT
BEGIN:STANDARD
TZOFFSETFROM:-0400
TZOFFSETTO:-0500
TZNAME:EST
DTSTART:20231105T060000
END:STANDARD
BEGIN:DAYLIGHT
TZOFFSETFROM:-0500
TZOFFSETTO:-0400
TZNAME:EDT
DTSTART:20240310T070000
END:DAYLIGHT
BEGIN:STANDARD
TZOFFSETFROM:-0400
TZOFFSETTO:-0500
TZNAME:EST
DTSTART:20241103T060000
END:STANDARD
BEGIN:DAYLIGHT
TZOFFSETFROM:-0500
TZOFFSETTO:-0400
TZNAME:EDT
DTSTART:20250309T070000
END:DAYLIGHT
BEGIN:STANDARD
TZOFFSETFROM:-0400
TZOFFSETTO:-0500
TZNAME:EST
DTSTART:20251102T060000
END:STANDARD
END:VTIMEZONE
BEGIN:VEVENT
DTSTART;VALUE=DATE:20240518
DTEND;VALUE=DATE:20240519
DTSTAMP:20260421T041203
CREATED:20220519T164620Z
LAST-MODIFIED:20220519T164620Z
UID:10000120-1715990400-1716076799@cjradio.ca
SUMMARY:Brad Kushniryk's Birthday
DESCRIPTION:May 18th
URL:https://cjradio.ca/event/brad-kushniryks-birthday/2024-05-18/
CATEGORIES:CJ104 Swan River & Dauphin
END:VEVENT
BEGIN:VEVENT
DTSTART;VALUE=DATE:20230701
DTEND;VALUE=DATE:20230702
DTSTAMP:20260421T041203
CREATED:20220519T171826Z
LAST-MODIFIED:20220519T171826Z
UID:10000131-1688169600-1688255999@cjradio.ca
SUMMARY:Canada Day
DESCRIPTION:The national day of Canada \nOriginally called Dominion Day and was renamed in 1982 \nOften referred to as Canada’s Birthday \nCanada Day is observed on July 1st unless that date falls on a Sunday\, in which case July 2nd \nTraditions include bonfires\, fireworks\, illuminations\, excursions\, military displays\, music\, and entertainment \nIn 2022 festivities will return being re-located from Parlement Hill to Lebreton Flats \nErin O’Toole criticized calls to cancel Canada Day celebrations because he was “concerned that injustices in our past or in  the present are too often seized upon by a small group of activist voices who use it to attack the very idea of Canada itself”\, and that “the road to reconciliation\, the road to equality\, the road to inclusion\, does not involve tearing Canada down.”
URL:https://cjradio.ca/event/canada-day/2023-07-01/
CATEGORIES:CJ103 Virden & Oak Lake,CJ104 Swan River & Dauphin,CJ107 Gimli & Arborg,CJ97 Neepawa & Minnedosa,EZ FM Esterhazy
END:VEVENT
BEGIN:VEVENT
DTSTART;VALUE=DATE:20230601
DTEND;VALUE=DATE:20230602
DTSTAMP:20260421T041203
CREATED:20220530T200947Z
LAST-MODIFIED:20220530T200947Z
UID:10000147-1685577600-1685663999@cjradio.ca
SUMMARY:Red Shirt Day (of Action for AccessAbility and inclusion
DESCRIPTION:On June 1st wear a red shirt to show your support for people with disabilities. \nYou can celebrate by wearing red and posting a photo on social media with the hashtags: #RedShirtDay\, #RedForAccessAbility\, #RedShirtESMB\, #MakeItPossible
URL:https://cjradio.ca/event/red-shirt-day-of-action-for-accessability-and-inclusion/2023-06-01/
CATEGORIES:CJ103 Virden & Oak Lake,CJ104 Swan River & Dauphin,CJ107 Gimli & Arborg,CJ97 Neepawa & Minnedosa,EZ FM Esterhazy
END:VEVENT
BEGIN:VEVENT
DTSTART;VALUE=DATE:20230523
DTEND;VALUE=DATE:20230524
DTSTAMP:20260421T041203
CREATED:20220519T170338Z
LAST-MODIFIED:20220519T170338Z
UID:10000127-1684800000-1684886399@cjradio.ca
SUMMARY:Victoria Day
DESCRIPTION:Celebrated as the official birthday of Canada’s sovereign \nThe beginning of the summer season in Canada \nGive cheers to the queen \nTraditions include a gun salute at midnight\, pre-dawn serenades\, picnics\, athletic competitions\, a display of illumination\, and a torch-lit procession \nMajor tragedies: In 1881\, the passenger ferry Victoria overturned in the Thames River\, and on May 26th\, 1896\, the Point Ellice Bridge collapsed under the weight of a streetcar. \nCanada is the only country that commemorates Queen Victoria with an official Holiday. \nThis holiday is also known as “May Two-Four”\, Canadian slang for a case of Twenty-Four beers. \nA traditional song about Victoria’s Day went as follows: “The Twenty Fourth of May/ Is the Queens Birthday; / If they don’t give us a holiday / We’ll all run away!
URL:https://cjradio.ca/event/victoria-day/2023-05-23/
CATEGORIES:CJ103 Virden & Oak Lake,CJ104 Swan River & Dauphin,CJ107 Gimli & Arborg,CJ97 Neepawa & Minnedosa,EZ FM Esterhazy
END:VEVENT
BEGIN:VEVENT
DTSTART;VALUE=DATE:20230519
DTEND;VALUE=DATE:20230520
DTSTAMP:20260421T041203
CREATED:20220519T164719Z
LAST-MODIFIED:20220519T164719Z
UID:10000123-1684454400-1684540799@cjradio.ca
SUMMARY:Mark Kohut's Birthday
DESCRIPTION:May 19th
URL:https://cjradio.ca/event/mark-kohuts-birthday/2023-05-19/
CATEGORIES:CJ104 Swan River & Dauphin
END:VEVENT
BEGIN:VEVENT
DTSTART;VALUE=DATE:20230518
DTEND;VALUE=DATE:20230519
DTSTAMP:20260421T041203
CREATED:20220519T164620Z
LAST-MODIFIED:20220519T164620Z
UID:10000119-1684368000-1684454399@cjradio.ca
SUMMARY:Brad Kushniryk's Birthday
DESCRIPTION:May 18th
URL:https://cjradio.ca/event/brad-kushniryks-birthday/2023-05-18/
CATEGORIES:CJ104 Swan River & Dauphin
END:VEVENT
BEGIN:VEVENT
DTSTART;TZID=America/Toronto:20220924T090000
DTEND;TZID=America/Toronto:20220925T170000
DTSTAMP:20260421T041203
CREATED:20220615T202230Z
LAST-MODIFIED:20220615T202230Z
UID:10000165-1664010000-1664125200@cjradio.ca
SUMMARY:Winnipeg's Mega Train Hobby Show and Sale
DESCRIPTION:Saturday\, Sept. 24th – 9am -5pm \nSunday\, Sept\, 25th – 9am – 4pm \nRed River Exhibition Place – 3977 Portage Ave. Winnipeg \nTrains\, boats\, airplanes\, and Carrera race car displays \n$10.00 – adults \n$5.00 – youth (4-12) \nAdmission includes unlimited rides on the 7.5″ Mega Train
URL:https://cjradio.ca/event/winnipegs-mega-train-hobby-show-and-sale/
CATEGORIES:CJ103 Virden & Oak Lake,CJ104 Swan River & Dauphin,CJ107 Gimli & Arborg,CJ97 Neepawa & Minnedosa
END:VEVENT
BEGIN:VEVENT
DTSTART;TZID=America/Toronto:20220901T100000
DTEND;TZID=America/Toronto:20220930T160000
DTSTAMP:20260421T041203
CREATED:20220602T152355Z
LAST-MODIFIED:20220602T152355Z
UID:10000156-1662026400-1664553600@cjradio.ca
SUMMARY:Forest Royalty Neepawa
DESCRIPTION:September 1st – 30th 2022 at 293 Mountain Ave. Neepawa \nTuesday to Friday 10 am – 4 pm \nArt exhibit \n 
URL:https://cjradio.ca/event/forest-royalty-neepawa/
CATEGORIES:CJ97 Neepawa & Minnedosa
END:VEVENT
BEGIN:VEVENT
DTSTART;TZID=America/Toronto:20220812T200000
DTEND;TZID=America/Toronto:20220813T220000
DTSTAMP:20260421T041203
CREATED:20220630T181813Z
LAST-MODIFIED:20220630T181813Z
UID:10000094-1660334400-1660428000@cjradio.ca
SUMMARY:Gimli Leslie Blasing Concert
DESCRIPTION:August 12th + 13th from 8-10pm \nOnly 100 tickets available ($15 each) \nProceeds go to help support veterans
URL:https://cjradio.ca/event/gimli-leslie-blasing-concert/
CATEGORIES:CJ107 Gimli & Arborg
END:VEVENT
BEGIN:VEVENT
DTSTART;VALUE=DATE:20220804
DTEND;VALUE=DATE:20220815
DTSTAMP:20260421T041203
CREATED:20220630T183836Z
LAST-MODIFIED:20220630T183836Z
UID:10000097-1659571200-1660521599@cjradio.ca
SUMMARY:Cancer Care Manitoba's Virtual Challenge
DESCRIPTION:August 4-14th \nWalk 20 kms or 200 workout minutes (Bike\, run\, swim\, hike) \nregister at challengeforlife.ca
URL:https://cjradio.ca/event/cancer-care-manitobas-virtual-challenge/
CATEGORIES:CJ103 Virden & Oak Lake,CJ104 Swan River & Dauphin,CJ107 Gimli & Arborg,CJ97 Neepawa & Minnedosa,EZ FM Esterhazy
END:VEVENT
BEGIN:VEVENT
DTSTART;TZID=America/Toronto:20220729T080000
DTEND;TZID=America/Toronto:20220801T170000
DTSTAMP:20260421T041203
CREATED:20220602T173842Z
LAST-MODIFIED:20220602T173842Z
UID:10000159-1659081600-1659373200@cjradio.ca
SUMMARY:Gimli's Icelandic Festival of Manitoba
DESCRIPTION:July 29th – August 1st \nFri 4pm‑11pm \nSat 10am ‑11pm \nSun 10am‑10pm \nMon 10am‑6pm \n 
URL:https://cjradio.ca/event/gimlis-icelandic-festival-of-manitoba/
CATEGORIES:CJ103 Virden & Oak Lake,CJ104 Swan River & Dauphin,CJ107 Gimli & Arborg,CJ97 Neepawa & Minnedosa,EZ FM Esterhazy
END:VEVENT
BEGIN:VEVENT
DTSTART;VALUE=DATE:20220729
DTEND;VALUE=DATE:20220801
DTSTAMP:20260421T041203
CREATED:20220601T184347Z
LAST-MODIFIED:20220601T184347Z
UID:10000154-1659052800-1659311999@cjradio.ca
SUMMARY:Rockin the Fields Of Minnidosa 2022
DESCRIPTION:July 29th – 31st \nLong-Running Classic Rock Festival Missed 2020 and 2021\, Back for 2022 \nTickets on sale Monday
URL:https://cjradio.ca/event/rockin-the-fields-of-minnidosa-2022/
CATEGORIES:CJ103 Virden & Oak Lake,CJ104 Swan River & Dauphin,CJ107 Gimli & Arborg,CJ97 Neepawa & Minnedosa,EZ FM Esterhazy
END:VEVENT
BEGIN:VEVENT
DTSTART;TZID=America/Toronto:20220722T170000
DTEND;TZID=America/Toronto:20220723T200000
DTSTAMP:20260421T041203
CREATED:20220602T151151Z
LAST-MODIFIED:20220602T151151Z
UID:10000155-1658509200-1658606400@cjradio.ca
SUMMARY:Rockin' The Riverbend Neepawa
DESCRIPTION:July 22nd\, 2022 from 5pm – 8pm at the Riverbend \nJuly 23rd\, 2022 from 5pm – 10pm \nLive music and entertainment
URL:https://cjradio.ca/event/rockin-the-riverbend-neepawa/
CATEGORIES:CJ97 Neepawa & Minnedosa
END:VEVENT
BEGIN:VEVENT
DTSTART;TZID=America/Toronto:20220709T100000
DTEND;TZID=America/Toronto:20220709T150000
DTSTAMP:20260421T041203
CREATED:20220615T202913Z
LAST-MODIFIED:20220615T202913Z
UID:10000092-1657360800-1657378800@cjradio.ca
SUMMARY:Gimli Summer Craft And Trade Show
DESCRIPTION:July 9th at the Gimli Recreation Center from 10am – 3pm \nSilent auction and mini donuts
URL:https://cjradio.ca/event/gimli-summer-craft-and-trade-show/
CATEGORIES:CJ107 Gimli & Arborg
END:VEVENT
BEGIN:VEVENT
DTSTART;VALUE=DATE:20220708
DTEND;VALUE=DATE:20220711
DTSTAMP:20260421T041203
CREATED:20220630T182120Z
LAST-MODIFIED:20220630T182120Z
UID:10000095-1657238400-1657497599@cjradio.ca
SUMMARY:Portage Ex Fair
DESCRIPTION:July 8th – 10th at the Portage fair grounds \nMidway rides\, games\, live entertainment\, horse and livestock shows\, petting zoo\, and food booths \nDaily admission $10 \nWeekend admission $25 \nKids 6 and under free
URL:https://cjradio.ca/event/portage-ex-fair/
CATEGORIES:CJ107 Gimli & Arborg,CJ97 Neepawa & Minnedosa
END:VEVENT
BEGIN:VEVENT
DTSTART;TZID=America/Toronto:20220701T160000
DTEND;TZID=America/Toronto:20220701T223000
DTSTAMP:20260421T041203
CREATED:20220630T184124Z
LAST-MODIFIED:20220630T184124Z
UID:10000098-1656691200-1656714600@cjradio.ca
SUMMARY:Swan River Pizza Party Fundraiser
DESCRIPTION:July 1st from 4pm-10:30pm at the Swan River Ag Grounds Grandstand \nPizza\, beer gardens\, concert\, and fireworks \nProceeds to the Swan River Valley Agricultural Society
URL:https://cjradio.ca/event/swan-river-pizza-party-fundraiser/
CATEGORIES:CJ104 Swan River & Dauphin
END:VEVENT
BEGIN:VEVENT
DTSTART;TZID=America/Toronto:20220701T130000
DTEND;TZID=America/Toronto:20220701T230000
DTSTAMP:20260421T041203
CREATED:20220622T224135Z
LAST-MODIFIED:20220622T224135Z
UID:10000093-1656680400-1656716400@cjradio.ca
SUMMARY:Swan River Canada Day Events
DESCRIPTION:1pm – 4pm Picnic at the legion park (kite and frisbee flying\, Bowsman Lions and cement works trains\, concession stand\, children’s bouncers\, and mini golf) \n4pm – 10:30pm Canada Day live concert featuring 5 entertainers ($25 admissions) \n11pm fireworks at the grandstands (grandstands closed to public)
URL:https://cjradio.ca/event/swan-river-canada-day-events/
CATEGORIES:CJ104 Swan River & Dauphin
END:VEVENT
BEGIN:VEVENT
DTSTART;TZID=America/Toronto:20220701T120000
DTEND;TZID=America/Toronto:20220703T233000
DTSTAMP:20260421T041203
CREATED:20220630T182509Z
LAST-MODIFIED:20220630T182509Z
UID:10000096-1656676800-1656891000@cjradio.ca
SUMMARY:Dauphin Fair
DESCRIPTION:July 1st-3rd at the DMCC fairgrounds \nMidway(opens at noon)\, kids play zone\, small animal display\, and entertainment \n13 and over- $15 \n6-12 – $5 \n6 and under – free \nFull weekend – $35
URL:https://cjradio.ca/event/dauphin-fair/
CATEGORIES:CJ104 Swan River & Dauphin,CJ97 Neepawa & Minnedosa
END:VEVENT
BEGIN:VEVENT
DTSTART;TZID=America/Toronto:20220701T110000
DTEND;TZID=America/Toronto:20220701T230000
DTSTAMP:20260421T041203
CREATED:20220630T184929Z
LAST-MODIFIED:20220630T184929Z
UID:10000099-1656673200-1656716400@cjradio.ca
SUMMARY:Virden Canada Day
DESCRIPTION:Geocaching in and around Virden \n11-2pm safe free swim at the Virden pool \n12pm – parade \n1pm – opening ceremonies and free Canada day birthday cake \n1:30 – 5pm – entertainment/karaoke in Victoria park \n2-5pm free kids games at Victoria park \n2-7pm – free Kerr’s bouncy castles at Victoria park \nFree evening entertainment with live band (just 4 kix) Victoria park \nFood booth at Victoria park (hot dogs\, chips\, cold drinks for $5) \nFireworks at dusk behind Tundra Oil and Gas Place
URL:https://cjradio.ca/event/virden-canada-day/
CATEGORIES:CJ103 Virden & Oak Lake
END:VEVENT
BEGIN:VEVENT
DTSTART;VALUE=DATE:20220701
DTEND;VALUE=DATE:20220704
DTSTAMP:20260421T041203
CREATED:20220518T170202Z
LAST-MODIFIED:20220519T182029Z
UID:10000113-1656633600-1656892799@cjradio.ca
SUMMARY:Roblin Li Festival Di Michif
DESCRIPTION:July 1st\, 2nd\, and 3rd at the St. Vlad’s College Grounds in Roblin \nLocal talents\, children’s activities\, food\, and more \nCampsites available \nRoblin MMF (Manitoba Metis Federation) \nFor more info- 204-760-2294
URL:https://cjradio.ca/event/roblin-li-festival-di-michif/
CATEGORIES:CJ103 Virden & Oak Lake,CJ104 Swan River & Dauphin,CJ107 Gimli & Arborg,CJ97 Neepawa & Minnedosa,EZ FM Esterhazy
END:VEVENT
BEGIN:VEVENT
DTSTART;VALUE=DATE:20220701
DTEND;VALUE=DATE:20220702
DTSTAMP:20260421T041203
CREATED:20220519T171826Z
LAST-MODIFIED:20220519T171826Z
UID:10000130-1656633600-1656719999@cjradio.ca
SUMMARY:Canada Day
DESCRIPTION:The national day of Canada \nOriginally called Dominion Day and was renamed in 1982 \nOften referred to as Canada’s Birthday \nCanada Day is observed on July 1st unless that date falls on a Sunday\, in which case July 2nd \nTraditions include bonfires\, fireworks\, illuminations\, excursions\, military displays\, music\, and entertainment \nIn 2022 festivities will return being re-located from Parlement Hill to Lebreton Flats \nErin O’Toole criticized calls to cancel Canada Day celebrations because he was “concerned that injustices in our past or in  the present are too often seized upon by a small group of activist voices who use it to attack the very idea of Canada itself”\, and that “the road to reconciliation\, the road to equality\, the road to inclusion\, does not involve tearing Canada down.”
URL:https://cjradio.ca/event/canada-day/2022-07-01/
CATEGORIES:CJ103 Virden & Oak Lake,CJ104 Swan River & Dauphin,CJ107 Gimli & Arborg,CJ97 Neepawa & Minnedosa,EZ FM Esterhazy
END:VEVENT
BEGIN:VEVENT
DTSTART;VALUE=DATE:20220625
DTEND;VALUE=DATE:20220626
DTSTAMP:20260421T041203
CREATED:20220610T201239Z
LAST-MODIFIED:20220610T201239Z
UID:10000164-1656115200-1656201599@cjradio.ca
SUMMARY:Swan River Convoy Thing*
DESCRIPTION:To honor all the supporters and the community as a whole\, I want to recognize all who went to Ottawa on their own dime to support Freedom Convoy 2022. Including all the support of the local convoys who headed out in support of those Canadians who wanted to have their voices heard again. This project is a grass. roots effort. All are volunteers and concerned Canadians. \nI am donating my property alongside #83 highway\, including 43 acres and a 36\, 000 sq ft building if weather permits. I met some interesting quests from Ottawa and all over Canada. The gathering will be an open forum and everyone that comes is welcome no matter their views. We are all free to express our opinions and add to the conversation. We live in Canada and we are all Canadians. \nBring your lawn chairs and your families\, children\, and friends and meet others to engage in conversation. I am asking individuals\, businesses\, and shop owners for donations. These donations will all go towards the day’s events and will be documented on an expense sheet. \nThank you for your time.
URL:https://cjradio.ca/event/swan-river-convoy-thing/
CATEGORIES:CJ104 Swan River & Dauphin
END:VEVENT
BEGIN:VEVENT
DTSTART;TZID=America/Toronto:20220624T190000
DTEND;TZID=America/Toronto:20220624T210000
DTSTAMP:20260421T041203
CREATED:20220602T160002Z
LAST-MODIFIED:20220602T160002Z
UID:10000158-1656097200-1656104400@cjradio.ca
SUMMARY:Swan River Heaven On Earth
DESCRIPTION:June 24th\, 7pm – 9pm at the Veterans Hall \nMasks are mandatory
URL:https://cjradio.ca/event/swan-river-heaven-on-earth/
CATEGORIES:CJ104 Swan River & Dauphin
END:VEVENT
BEGIN:VEVENT
DTSTART;TZID=America/Toronto:20220624T110000
DTEND;TZID=America/Toronto:20220624T130000
DTSTAMP:20260421T041203
CREATED:20220526T191428Z
LAST-MODIFIED:20220526T191428Z
UID:10000144-1656068400-1656075600@cjradio.ca
SUMMARY:Esterhazy's Annual Worship Service And Pot Luck Picnic
DESCRIPTION:June 26th at the Castleton United Church at 11am \nEverybody is welcome
URL:https://cjradio.ca/event/esterhazys-annual-worship-service-and-pot-luck-picnic/
CATEGORIES:EZ FM Esterhazy
END:VEVENT
BEGIN:VEVENT
DTSTART;TZID=America/Toronto:20220619T110000
DTEND;TZID=America/Toronto:20220619T150000
DTSTAMP:20260421T041203
CREATED:20220615T202538Z
LAST-MODIFIED:20220615T202538Z
UID:10000091-1655636400-1655650800@cjradio.ca
SUMMARY:Swan River Father's Day Car Show
DESCRIPTION:Sunday June\, 19th at 11:00 am- 3:00 pm \n5th Ave. North\, Swan River \nFood and craft vendors on site \nFree admissions
URL:https://cjradio.ca/event/swan-river-fathers-day-car-show/
CATEGORIES:CJ104 Swan River & Dauphin
END:VEVENT
BEGIN:VEVENT
DTSTART;TZID=America/Toronto:20220618T090000
DTEND;TZID=America/Toronto:20220618T140000
DTSTAMP:20260421T041203
CREATED:20220601T184053Z
LAST-MODIFIED:20220601T184053Z
UID:10000153-1655542800-1655560800@cjradio.ca
SUMMARY:Carberry Fireman's Texas Breakfast
DESCRIPTION:7am – 1pm Saturday\, June 18th at the Carberry Firehall (515 4th Ave.) \n$12 full breakfast \n$6 half breakfast \n 
URL:https://cjradio.ca/event/carberry-firemans-texas-breakfast/
CATEGORIES:CJ97 Neepawa & Minnedosa
END:VEVENT
BEGIN:VEVENT
DTSTART;TZID=America/Toronto:20220618T090000
DTEND;TZID=America/Toronto:20220618T140000
DTSTAMP:20260421T041203
CREATED:20220601T183438Z
LAST-MODIFIED:20220601T183438Z
UID:10000152-1655542800-1655560800@cjradio.ca
SUMMARY:Carberry Chamber of Commerce Town Wide Garage Sale
DESCRIPTION:9am – 2pm Saturday\, June 18th \n$5 to be registered on the map; contact edo@townofcarberry.ca \n 
URL:https://cjradio.ca/event/carberry-chamber-of-commerce-town-wide-garage-sale/
CATEGORIES:CJ97 Neepawa & Minnedosa
END:VEVENT
BEGIN:VEVENT
DTSTART;TZID=America/Toronto:20220618T070000
DTEND;TZID=America/Toronto:20220904T220000
DTSTAMP:20260421T041203
CREATED:20220601T182543Z
LAST-MODIFIED:20220601T182543Z
UID:10000150-1655535600-1662328800@cjradio.ca
SUMMARY:Swan River Stock Car Times
DESCRIPTION:June 18th – 7pm \nJune 19th – 3pm \nJuly 1st – 7pm \nJuly 2nd – 7pm \nJuly 30th – 8pm \nJuly 31st – 6pm \nSept. 3rd – 6pm \nSept. 4th – 6pm
URL:https://cjradio.ca/event/swan-river-stock-car-times/
CATEGORIES:CJ104 Swan River & Dauphin
END:VEVENT
BEGIN:VEVENT
DTSTART;TZID=America/Toronto:20220617T200000
DTEND;TZID=America/Toronto:20220617T200000
DTSTAMP:20260421T041203
CREATED:20220601T183224Z
LAST-MODIFIED:20220601T183224Z
UID:10000151-1655496000-1655496000@cjradio.ca
SUMMARY:Kick Off the Summer Social Carberry Splash Park Fundraiser
DESCRIPTION:Friday\, June 17th\, 8pm at the Carberry Plains Community Center \n$25 tickets at the Town of Carberry Office \nLive Entertainment: Almost Famous \n 
URL:https://cjradio.ca/event/kick-off-the-summer-social-carberry-splash-park-fundraiser/
CATEGORIES:CJ97 Neepawa & Minnedosa
END:VEVENT
BEGIN:VEVENT
DTSTART;TZID=America/Toronto:20220611T080000
DTEND;TZID=America/Toronto:20220611T170000
DTSTAMP:20260421T041203
CREATED:20220517T171305Z
LAST-MODIFIED:20220517T171305Z
UID:10000107-1654934400-1654966800@cjradio.ca
SUMMARY:Virden And Area Retired Teachers Day Trip
DESCRIPTION:NOW OPEN TO THE PUBLIC IS THE VIRDEN AND AREA RETIRED TEACHERS DAY TRIP TO WINNIPEG ON JUNE 28TH FROM 7 AM TO SUNSET. COME JOIN THE ADVENTURE… FOR $125.00 YOU GET TRANSPORT ON AN INNER-CITY COACH\, TWO MEALS\, ALL TIPS\, ADMISSIONS\, BUS ACTIVITIES/PRIZES\, AND A BOTTLE OF WATER. WE ARE GOING TO THE INUIT GALLARY AT THE WINNIPEG ART ART GALLARY IN THE MORNING AND THE CASINO IN THE AFTERNOON. REGISTRATION HAS TO BE IN BEFORE JUNE 11TH… CONTACT BETH AT 204-748-7570 OR KEL AT 204-748-3321. PICK-UP IN VIRDEN\, OAK LAKE\, AND BRANDON PLUS ALONG THE TCH.
URL:https://cjradio.ca/event/virden-and-area-retired-teachers-day-trip/
CATEGORIES:CJ103 Virden & Oak Lake
END:VEVENT
END:VCALENDAR