BEGIN:VCALENDAR
VERSION:2.0
PRODID:-//CJ Radio Group - ECPv6.15.20//NONSGML v1.0//EN
CALSCALE:GREGORIAN
METHOD:PUBLISH
X-WR-CALNAME:CJ Radio Group
X-ORIGINAL-URL:https://cjradio.ca
X-WR-CALDESC:Events for CJ Radio Group
REFRESH-INTERVAL;VALUE=DURATION:PT1H
X-Robots-Tag:noindex
X-PUBLISHED-TTL:PT1H
BEGIN:VTIMEZONE
TZID:America/Toronto
BEGIN:DAYLIGHT
TZOFFSETFROM:-0500
TZOFFSETTO:-0400
TZNAME:EDT
DTSTART:20210314T070000
END:DAYLIGHT
BEGIN:STANDARD
TZOFFSETFROM:-0400
TZOFFSETTO:-0500
TZNAME:EST
DTSTART:20211107T060000
END:STANDARD
BEGIN:DAYLIGHT
TZOFFSETFROM:-0500
TZOFFSETTO:-0400
TZNAME:EDT
DTSTART:20220313T070000
END:DAYLIGHT
BEGIN:STANDARD
TZOFFSETFROM:-0400
TZOFFSETTO:-0500
TZNAME:EST
DTSTART:20221106T060000
END:STANDARD
BEGIN:DAYLIGHT
TZOFFSETFROM:-0500
TZOFFSETTO:-0400
TZNAME:EDT
DTSTART:20230312T070000
END:DAYLIGHT
BEGIN:STANDARD
TZOFFSETFROM:-0400
TZOFFSETTO:-0500
TZNAME:EST
DTSTART:20231105T060000
END:STANDARD
END:VTIMEZONE
BEGIN:VEVENT
DTSTART;VALUE=DATE:20220521
DTEND;VALUE=DATE:20220906
DTSTAMP:20260422T130349
CREATED:20220520T151856Z
LAST-MODIFIED:20220520T151856Z
UID:10000136-1653091200-1662422399@cjradio.ca
SUMMARY:Dinosaur Exhibit At The Manitoba Museum
DESCRIPTION:From May 21 to September 5th the Royal Ontario Museum’s Dinosaur display will be at the Manitoba Museum. With its realistic life-sized displays\, this family-friendly exhibit is sure to impress!
URL:https://cjradio.ca/event/dinosaur-exhibit-at-the-manitoba-museum/
CATEGORIES:CJ103 Virden & Oak Lake,CJ104 Swan River & Dauphin,CJ107 Gimli & Arborg,CJ97 Neepawa & Minnedosa,EZ FM Esterhazy
END:VEVENT
BEGIN:VEVENT
DTSTART;TZID=America/Toronto:20220605T083000
DTEND;TZID=America/Toronto:20220605T130000
DTSTAMP:20260422T130349
CREATED:20220530T195857Z
LAST-MODIFIED:20220530T195857Z
UID:10000145-1654417800-1654434000@cjradio.ca
SUMMARY:The Winnipeg LOVE YOU by Shoppers Drug Mart Run For Women
DESCRIPTION:June 5th\, 2022 at the Manitoba Legislative Building. The event starts at 8:55am \nAll funds raised go towards supporting our woman’s programs
URL:https://cjradio.ca/event/the-winnipeg-love-you-by-shoppers-drug-mart-run-for-women/
CATEGORIES:CJ103 Virden & Oak Lake,CJ107 Gimli & Arborg,CJ97 Neepawa & Minnedosa
END:VEVENT
END:VCALENDAR