BEGIN:VCALENDAR
VERSION:2.0
PRODID:-//CJ Radio Group - ECPv6.15.20//NONSGML v1.0//EN
CALSCALE:GREGORIAN
METHOD:PUBLISH
X-WR-CALNAME:CJ Radio Group
X-ORIGINAL-URL:https://cjradio.ca
X-WR-CALDESC:Events for CJ Radio Group
REFRESH-INTERVAL;VALUE=DURATION:PT1H
X-Robots-Tag:noindex
X-PUBLISHED-TTL:PT1H
BEGIN:VTIMEZONE
TZID:America/Toronto
BEGIN:DAYLIGHT
TZOFFSETFROM:-0500
TZOFFSETTO:-0400
TZNAME:EDT
DTSTART:20210314T070000
END:DAYLIGHT
BEGIN:STANDARD
TZOFFSETFROM:-0400
TZOFFSETTO:-0500
TZNAME:EST
DTSTART:20211107T060000
END:STANDARD
BEGIN:DAYLIGHT
TZOFFSETFROM:-0500
TZOFFSETTO:-0400
TZNAME:EDT
DTSTART:20220313T070000
END:DAYLIGHT
BEGIN:STANDARD
TZOFFSETFROM:-0400
TZOFFSETTO:-0500
TZNAME:EST
DTSTART:20221106T060000
END:STANDARD
BEGIN:DAYLIGHT
TZOFFSETFROM:-0500
TZOFFSETTO:-0400
TZNAME:EDT
DTSTART:20230312T070000
END:DAYLIGHT
BEGIN:STANDARD
TZOFFSETFROM:-0400
TZOFFSETTO:-0500
TZNAME:EST
DTSTART:20231105T060000
END:STANDARD
END:VTIMEZONE
BEGIN:VEVENT
DTSTART;VALUE=DATE:20220521
DTEND;VALUE=DATE:20220906
DTSTAMP:20260422T114432
CREATED:20220520T151856Z
LAST-MODIFIED:20220520T151856Z
UID:10000136-1653091200-1662422399@cjradio.ca
SUMMARY:Dinosaur Exhibit At The Manitoba Museum
DESCRIPTION:From May 21 to September 5th the Royal Ontario Museum’s Dinosaur display will be at the Manitoba Museum. With its realistic life-sized displays\, this family-friendly exhibit is sure to impress!
URL:https://cjradio.ca/event/dinosaur-exhibit-at-the-manitoba-museum/
CATEGORIES:CJ103 Virden & Oak Lake,CJ104 Swan River & Dauphin,CJ107 Gimli & Arborg,CJ97 Neepawa & Minnedosa,EZ FM Esterhazy
END:VEVENT
BEGIN:VEVENT
DTSTART;VALUE=DATE:20220601
DTEND;VALUE=DATE:20220602
DTSTAMP:20260422T114432
CREATED:20220530T200947Z
LAST-MODIFIED:20220530T200947Z
UID:10000146-1654041600-1654127999@cjradio.ca
SUMMARY:Red Shirt Day (of Action for AccessAbility and inclusion
DESCRIPTION:On June 1st wear a red shirt to show your support for people with disabilities. \nYou can celebrate by wearing red and posting a photo on social media with the hashtags: #RedShirtDay\, #RedForAccessAbility\, #RedShirtESMB\, #MakeItPossible
URL:https://cjradio.ca/event/red-shirt-day-of-action-for-accessability-and-inclusion/2022-06-01/
CATEGORIES:CJ103 Virden & Oak Lake,CJ104 Swan River & Dauphin,CJ107 Gimli & Arborg,CJ97 Neepawa & Minnedosa,EZ FM Esterhazy
END:VEVENT
BEGIN:VEVENT
DTSTART;VALUE=DATE:20220604
DTEND;VALUE=DATE:20220605
DTSTAMP:20260422T114432
CREATED:20220525T160123Z
LAST-MODIFIED:20220525T160123Z
UID:10000139-1654300800-1654387199@cjradio.ca
SUMMARY:The St.Amant Autism Ride And Raffle
DESCRIPTION:June 4th\, 2022 at Harley Davidson (1377 Niakwa Rd E\, Winnipeg) \nProceeds from the ride and raffle help kids with autism who benefit from the St.Amants autism program. \nIf you want to make things easier for kids with autism\, buy a ticket to the raffle at stamant.ca/raffle \nPrizes include: \nA 2022 Harley-Davidson Softail standard motorcycle \nA fridge fully stocked with beer
URL:https://cjradio.ca/event/the-st-amant-autism-ride-and-raffle/
CATEGORIES:CJ103 Virden & Oak Lake,CJ104 Swan River & Dauphin,CJ107 Gimli & Arborg,CJ97 Neepawa & Minnedosa,EZ FM Esterhazy
END:VEVENT
BEGIN:VEVENT
DTSTART;TZID=America/Toronto:20220605T083000
DTEND;TZID=America/Toronto:20220605T130000
DTSTAMP:20260422T114432
CREATED:20220530T195857Z
LAST-MODIFIED:20220530T195857Z
UID:10000145-1654417800-1654434000@cjradio.ca
SUMMARY:The Winnipeg LOVE YOU by Shoppers Drug Mart Run For Women
DESCRIPTION:June 5th\, 2022 at the Manitoba Legislative Building. The event starts at 8:55am \nAll funds raised go towards supporting our woman’s programs
URL:https://cjradio.ca/event/the-winnipeg-love-you-by-shoppers-drug-mart-run-for-women/
CATEGORIES:CJ103 Virden & Oak Lake,CJ107 Gimli & Arborg,CJ97 Neepawa & Minnedosa
END:VEVENT
BEGIN:VEVENT
DTSTART;VALUE=DATE:20220608
DTEND;VALUE=DATE:20220613
DTSTAMP:20260422T114432
CREATED:20220519T164136Z
LAST-MODIFIED:20220519T164136Z
UID:10000117-1654646400-1655078399@cjradio.ca
SUMMARY:Brandon's Manitoba Summer Fair
DESCRIPTION:June 8th to 12th at the Westoba Ag Center \nCome join us for a midway\, food\, demo derby\, market\, seniors tea and dance\, barrel racing\, horse shows\, doodles the clown\, and the hockey circus show
URL:https://cjradio.ca/event/brandons-manitoba-summer-fair/
CATEGORIES:CJ103 Virden & Oak Lake,CJ104 Swan River & Dauphin,CJ107 Gimli & Arborg,CJ97 Neepawa & Minnedosa,EZ FM Esterhazy
END:VEVENT
END:VCALENDAR